BEGIN:VCALENDAR
VERSION:2.0
PRODID:-//Power of Listening Foundation//Weekly Meeting//EN
CALSCALE:GREGORIAN
METHOD:PUBLISH
BEGIN:VEVENT
UID:pol-weekly-meeting-en@poweroflistening.org
DTSTAMP:20260423T105535Z
SUMMARY:Power of Listening — Group Meeting
DESCRIPTION:Weekly group meeting.\nJoin (Google Meet): https://meet.googl
 e.com/wze-bgro-jff\nMore info: https://poweroflistening.org/group
LOCATION:Online
URL:https://poweroflistening.org/group
DTSTART;TZID=America/New_York:20260425T190000
DURATION:PT2H30M
RRULE:FREQ=WEEKLY;BYDAY=SA
END:VEVENT
END:VCALENDAR
